BEGIN:VCALENDAR
VERSION:2.0
PRODID:-//Indo-American Community Federation - ECPv6.8.3//NONSGML v1.0//EN
CALSCALE:GREGORIAN
METHOD:PUBLISH
X-WR-CALNAME:Indo-American Community Federation
X-ORIGINAL-URL:https://indocommunity.xlnc.info
X-WR-CALDESC:Events for Indo-American Community Federation
REFRESH-INTERVAL;VALUE=DURATION:PT1H
X-Robots-Tag:noindex
X-PUBLISHED-TTL:PT1H
BEGIN:VTIMEZONE
TZID:UTC
BEGIN:STANDARD
TZOFFSETFROM:+0000
TZOFFSETTO:+0000
TZNAME:UTC
DTSTART:20040101T000000
END:STANDARD
END:VTIMEZONE
BEGIN:VEVENT
DTSTART;VALUE=DATE:20041210
DTEND;VALUE=DATE:20041211
DTSTAMP:20260419T224841
CREATED:20230228T104743Z
LAST-MODIFIED:20230313T115554Z
UID:7404-1102636800-1102723199@indocommunity.xlnc.info
SUMMARY:Indo-American Community Federation\, kick-off\, Unity Dinner 2004 (3th annual dinner)
DESCRIPTION:10 December 2004 \nIndo-American Community Federation\, kick-off\, Unity Dinner 2004 (3th annual dinner)
URL:https://indocommunity.xlnc.info/event/indo-american-community-federation-kick-off-unity-dinner-2004-3th-annual-dinner/
CATEGORIES:3th Annual Unity Dinner
ATTACH;FMTTYPE=image/png:https://indocommunity.xlnc.info/wp-content/uploads/2023/03/Indo-American-Community-Federation-kick-off-Unity-Dinner-2004-3rd-annual-dinner.png
END:VEVENT
END:VCALENDAR