BEGIN:VCALENDAR
VERSION:2.0
PRODID:-//Indo-American Community Federation - ECPv6.8.3//NONSGML v1.0//EN
CALSCALE:GREGORIAN
METHOD:PUBLISH
X-WR-CALNAME:Indo-American Community Federation
X-ORIGINAL-URL:https://indocommunity.xlnc.info
X-WR-CALDESC:Events for Indo-American Community Federation
REFRESH-INTERVAL;VALUE=DURATION:PT1H
X-Robots-Tag:noindex
X-PUBLISHED-TTL:PT1H
BEGIN:VTIMEZONE
TZID:UTC
BEGIN:STANDARD
TZOFFSETFROM:+0000
TZOFFSETTO:+0000
TZNAME:UTC
DTSTART:20050101T000000
END:STANDARD
END:VTIMEZONE
BEGIN:VEVENT
DTSTART;VALUE=DATE:20050124
DTEND;VALUE=DATE:20050125
DTSTAMP:20260419T230155
CREATED:20230228T104217Z
LAST-MODIFIED:20230313T115512Z
UID:7401-1106524800-1106611199@indocommunity.xlnc.info
SUMMARY:Unity Dinner 2005 Press Coverage by India West Newspaper
DESCRIPTION:24 January 2005 \nUnity Dinner 2005 Press Coverage by India West Newspaper
URL:https://indocommunity.xlnc.info/event/unity-dinner-2005-press-coverage-by-india-west-newspaper/
CATEGORIES:4th Annual Unity Dinner
ATTACH;FMTTYPE=image/png:https://indocommunity.xlnc.info/wp-content/uploads/2023/03/Unity-Dinner-2005-Press-Coverage-by-India-West-newspaper-4th-annual-dinner.png
END:VEVENT
END:VCALENDAR