BEGIN:VCALENDAR
VERSION:2.0
PRODID:-//Indo-American Community Federation - ECPv6.8.3//NONSGML v1.0//EN
CALSCALE:GREGORIAN
METHOD:PUBLISH
X-WR-CALNAME:Indo-American Community Federation
X-ORIGINAL-URL:https://indocommunity.xlnc.info
X-WR-CALDESC:Events for Indo-American Community Federation
REFRESH-INTERVAL;VALUE=DURATION:PT1H
X-Robots-Tag:noindex
X-PUBLISHED-TTL:PT1H
BEGIN:VTIMEZONE
TZID:UTC
BEGIN:STANDARD
TZOFFSETFROM:+0000
TZOFFSETTO:+0000
TZNAME:UTC
DTSTART:20020101T000000
END:STANDARD
END:VTIMEZONE
BEGIN:VEVENT
DTSTART;VALUE=DATE:20100326
DTEND;VALUE=DATE:20100327
DTSTAMP:20260420T032240
CREATED:20230228T095114Z
LAST-MODIFIED:20230313T115211Z
UID:7386-1269561600-1269647999@indocommunity.xlnc.info
SUMMARY:IACF Celebrates Unity with Awards and awareness - Mar 26\, 2010\, shehjar
DESCRIPTION:26 March 2010 \nIACF Celebrates Unity with Awards and awareness – Mar 26\, 2010\, shehjar
URL:https://indocommunity.xlnc.info/event/iacf-celebrates-unity-with-awards-and-awareness-mar-26-2010-shehjar/
CATEGORIES:9th Annual Unity Dinner
ATTACH;FMTTYPE=image/jpeg:https://indocommunity.xlnc.info/wp-content/uploads/2023/03/IACF-Celebrates-Unity-with-Awards-and-awareness-Mar-26-2010-Shehjar.jpg
END:VEVENT
BEGIN:VEVENT
DTSTART;VALUE=DATE:20070424
DTEND;VALUE=DATE:20070425
DTSTAMP:20260420T032240
CREATED:20230228T101009Z
LAST-MODIFIED:20230313T115232Z
UID:7391-1177372800-1177459199@indocommunity.xlnc.info
SUMMARY:Celebrating Diversity: IACF Unity Dinner (2007) 6th unity dinner
DESCRIPTION:Celebrating Diversity: IACF Unity Dinner (2007) 6th unity dinner
URL:https://indocommunity.xlnc.info/event/celebrating-diversity-iacf-unity-dinner-2007-6th-unity-dinner/
CATEGORIES:6th Annual Unity Dinner
ATTACH;FMTTYPE=image/png:https://indocommunity.xlnc.info/wp-content/uploads/2023/03/Celebrating-DiversityIACF-Unity-Dinner-2007-6th-annual-dinner.png
END:VEVENT
BEGIN:VEVENT
DTSTART;VALUE=DATE:20070406
DTEND;VALUE=DATE:20070407
DTSTAMP:20260420T032240
CREATED:20230228T100158Z
LAST-MODIFIED:20230313T115252Z
UID:7388-1175817600-1175903999@indocommunity.xlnc.info
SUMMARY:Sixth Unity Dinner a big draw (2007) 6th unity dinner
DESCRIPTION:6 April 2007 \nSixth Unity Dinner a big draw (2007) 6th unity dinner
URL:https://indocommunity.xlnc.info/event/sixth-unity-dinner-a-big-draw-2007-6th-unity-dinner/
CATEGORIES:6th Annual Unity Dinner
ATTACH;FMTTYPE=image/png:https://indocommunity.xlnc.info/wp-content/uploads/2023/03/Sixth-Unity-Dinner-a-big-draw-2007-6th-annual-dinner.png
END:VEVENT
BEGIN:VEVENT
DTSTART;VALUE=DATE:20070403
DTEND;VALUE=DATE:20070404
DTSTAMP:20260420T032240
CREATED:20230228T101617Z
LAST-MODIFIED:20230313T115410Z
UID:7395-1175558400-1175644799@indocommunity.xlnc.info
SUMMARY:Tri-city who's who at glittering IACF dinner 2007\, 6th annual dinner
DESCRIPTION:03 April 2007 \nTri-city who’s who at glittering IACF dinner 2007\, 6th annual dinner
URL:https://indocommunity.xlnc.info/event/tri-city-whos-who-at-glittering-iacf-dinner-2007-6th-annual-dinner/
CATEGORIES:6th Annual Unity Dinner
ATTACH;FMTTYPE=image/png:https://indocommunity.xlnc.info/wp-content/uploads/2023/03/Tri-city-whos-who-at-glittering-IACF-dinner-2007-6th-annual-dinner.png
END:VEVENT
BEGIN:VEVENT
DTSTART;VALUE=DATE:20060407
DTEND;VALUE=DATE:20060408
DTSTAMP:20260420T032240
CREATED:20230228T102448Z
LAST-MODIFIED:20230313T115450Z
UID:7398-1144368000-1144454399@indocommunity.xlnc.info
SUMMARY:Unity Dinner 2006 - a Sellout Event (5th annual dinner)
DESCRIPTION:7 April 2006 \nUnity Dinner 2006 – a Sellout Event (5th annual dinner)
URL:https://indocommunity.xlnc.info/event/unity-dinner-2006-a-sellout-event-5th-annual-dinner/
CATEGORIES:5th Annual Unity Dinner
ATTACH;FMTTYPE=image/png:https://indocommunity.xlnc.info/wp-content/uploads/2023/03/Unity-Dinner-2006-a-Sellout-Event-5th-annual-dinner.png
END:VEVENT
BEGIN:VEVENT
DTSTART;VALUE=DATE:20050124
DTEND;VALUE=DATE:20050125
DTSTAMP:20260420T032240
CREATED:20230228T104217Z
LAST-MODIFIED:20230313T115512Z
UID:7401-1106524800-1106611199@indocommunity.xlnc.info
SUMMARY:Unity Dinner 2005 Press Coverage by India West Newspaper
DESCRIPTION:24 January 2005 \nUnity Dinner 2005 Press Coverage by India West Newspaper
URL:https://indocommunity.xlnc.info/event/unity-dinner-2005-press-coverage-by-india-west-newspaper/
CATEGORIES:4th Annual Unity Dinner
ATTACH;FMTTYPE=image/png:https://indocommunity.xlnc.info/wp-content/uploads/2023/03/Unity-Dinner-2005-Press-Coverage-by-India-West-newspaper-4th-annual-dinner.png
END:VEVENT
BEGIN:VEVENT
DTSTART;VALUE=DATE:20041210
DTEND;VALUE=DATE:20041211
DTSTAMP:20260420T032240
CREATED:20230228T104743Z
LAST-MODIFIED:20230313T115554Z
UID:7404-1102636800-1102723199@indocommunity.xlnc.info
SUMMARY:Indo-American Community Federation\, kick-off\, Unity Dinner 2004 (3th annual dinner)
DESCRIPTION:10 December 2004 \nIndo-American Community Federation\, kick-off\, Unity Dinner 2004 (3th annual dinner)
URL:https://indocommunity.xlnc.info/event/indo-american-community-federation-kick-off-unity-dinner-2004-3th-annual-dinner/
CATEGORIES:3th Annual Unity Dinner
ATTACH;FMTTYPE=image/png:https://indocommunity.xlnc.info/wp-content/uploads/2023/03/Indo-American-Community-Federation-kick-off-Unity-Dinner-2004-3rd-annual-dinner.png
END:VEVENT
BEGIN:VEVENT
DTSTART;VALUE=DATE:20031114
DTEND;VALUE=DATE:20031115
DTSTAMP:20260420T032240
CREATED:20230228T111554Z
LAST-MODIFIED:20230313T115620Z
UID:7413-1068768000-1068854399@indocommunity.xlnc.info
SUMMARY:Pallone Hosts Hearing on Plight of Kashmiri Pandits (2003)
DESCRIPTION:14 November 2003 \nPallone Hosts Hearing on Plight of Kashmiri Pandits (2003)
URL:https://indocommunity.xlnc.info/event/pallone-hosts-hearing-on-plight-of-kashmiri-pandits-2003/
CATEGORIES:2th Annual Unity Dinner
ATTACH;FMTTYPE=image/png:https://indocommunity.xlnc.info/wp-content/uploads/2023/03/Pallone-Hosts-Hearing-on-Plight-of-Kashmiri-Pandits-2003.png
END:VEVENT
BEGIN:VEVENT
DTSTART;VALUE=DATE:20030124
DTEND;VALUE=DATE:20030125
DTSTAMP:20260420T032240
CREATED:20230228T110747Z
LAST-MODIFIED:20230313T115722Z
UID:7410-1043366400-1043452799@indocommunity.xlnc.info
SUMMARY:Dinner for Unity on 24th January 2003 - A Report by India Currents December 2\, 2002
DESCRIPTION:24 January 2003 \nDinner for Unity on 24th January 2003 – A Report by India Currents December 2\, 2002
URL:https://indocommunity.xlnc.info/event/dinner-for-unity-on-24th-january-2003-a-report-by-india-currents-december-2-2002/
CATEGORIES:2th Annual Unity Dinner
ATTACH;FMTTYPE=image/png:https://indocommunity.xlnc.info/wp-content/uploads/2023/02/Dinner-for-Unity-on-24th-January-2003.png
END:VEVENT
BEGIN:VEVENT
DTSTART;VALUE=DATE:20030124
DTEND;VALUE=DATE:20030125
DTSTAMP:20260420T032240
CREATED:20230228T110146Z
LAST-MODIFIED:20230313T115639Z
UID:7407-1043366400-1043452799@indocommunity.xlnc.info
SUMMARY:Second Unity Dinner in California Focuses on Peace and Harmony (2nd Unity Dinner)
DESCRIPTION:24 January 2003 \nSecond Unity Dinner in California Focuses on Peace and Harmony (2nd Unity Dinner)
URL:https://indocommunity.xlnc.info/event/second-unity-dinner-in-california-focuses-on-peace-and-harmony-2nd-unity-dinner/
CATEGORIES:2th Annual Unity Dinner
ATTACH;FMTTYPE=image/png:https://indocommunity.xlnc.info/wp-content/uploads/2023/03/Second-Unity-dinner-in-California-focuses-on-peace-and-harmony-2ND-UNITY-DINNER.png
END:VEVENT
BEGIN:VEVENT
DTSTART;TZID=UTC:20020121T080000
DTEND;TZID=UTC:20020121T170000
DTSTAMP:20260420T032240
CREATED:20230228T112446Z
LAST-MODIFIED:20230301T120720Z
UID:7416-1011600000-1011632400@indocommunity.xlnc.info
SUMMARY:Unity Dinner 2002 on 25th Jan' 2002 - The Indo-American Community Federation's first annual event Unity Dinner 2002 with Live musical entertainment by Melody Queen Alka Bhatnagar
DESCRIPTION:21 January 2002 \nUnity Dinner 2002 on 25th Jan’ 2002 – The Indo-American Community Federation’s first annual event Unity Dinner 2002 with Live musical entertainment by Melody Queen Alka Bhatnagar
URL:https://indocommunity.xlnc.info/event/unity-dinner-2002-on-25th-jan-2002-the-indo-american-community-federations-first-annual-event-unity-dinner-2002-with-live-musical-entertainment-by-melody-queen-alka-bhatnagar/
CATEGORIES:1th Annual Unity Dinner
ATTACH;FMTTYPE=image/png:https://indocommunity.xlnc.info/wp-content/uploads/2023/03/1st-annual-unity-dinner.png
END:VEVENT
END:VCALENDAR