BEGIN:VCALENDAR
VERSION:2.0
PRODID:-//Indo-American Community Federation - ECPv6.8.3//NONSGML v1.0//EN
CALSCALE:GREGORIAN
METHOD:PUBLISH
X-ORIGINAL-URL:https://indocommunity.xlnc.info
X-WR-CALDESC:Events for Indo-American Community Federation
REFRESH-INTERVAL;VALUE=DURATION:PT1H
X-Robots-Tag:noindex
X-PUBLISHED-TTL:PT1H
BEGIN:VTIMEZONE
TZID:UTC
BEGIN:STANDARD
TZOFFSETFROM:+0000
TZOFFSETTO:+0000
TZNAME:UTC
DTSTART:20200101T000000
END:STANDARD
END:VTIMEZONE
BEGIN:VEVENT
DTSTART;VALUE=DATE:20200320
DTEND;VALUE=DATE:20200321
DTSTAMP:20260425T215237
CREATED:20200320T064531Z
LAST-MODIFIED:20230313T114945Z
UID:6455-1584662400-1584748799@indocommunity.xlnc.info
SUMMARY:Celebration of 19th Annual Unity Dinner
DESCRIPTION:Celebration of 19th Annual Unity Dinner\nFriday\, March 20\, 2020\nIndian Community Center (ICC)\, 525 Los Coches St\, Milpitas\, CA 95035.\nA prominent group of more than 400 community members including organizations and public officials supported this signature event to network and promote unity in diversity. Nearly 35 public officials and senior lawmakers attended. \nRestoring Unity: The Path Forward for Kashmir \nIn keeping with our theme\, this year the IACF and “Kashmiri Overseas Association (KOA)” planned a Panel discussion from 6:45 PM to 8:00 PM\, led by an esteemed Kashmir expert invited from Kashmir\, India to promote peace and understanding in Kashmir\, India. \nThe Unity Dinner features keynote speech\, Guest speakers\, Awards\, and a top-notch entertainment program. \nSpecial Guests: \nHon. Member of Congress Anna Eshoo\, \nHon. Lieutenant Governor of the State of California Eleni Kounalakis\, \nHon. Consul General of India Ambassador Sanjay Panda\, \nHon. California State Senator Bob Wieckowski \nMaster of ceremonies: Dr. Raj Salwan \nJeevan Zutshi Speech at IACF 25th Anniversary \n 
URL:https://indocommunity.xlnc.info/event/celebration-of-19th-annual-unity-dinner/
LOCATION:Indian Community Center (ICC)\, 525 Los Coches St\, Milpitas\, CA 95035
CATEGORIES:19th Annual Unity Dinner
ATTACH;FMTTYPE=image/jpeg:https://indocommunity.xlnc.info/wp-content/uploads/2022/11/img_0194.jpg
END:VEVENT
END:VCALENDAR